BEGIN:VCALENDAR
VERSION:2.0
PRODID:-//tandcschool.org//NONSGML kigkonsult.se iCalcreator 2.30.10//
CALSCALE:GREGORIAN
METHOD:PUBLISH
UID:f143a4f2-f500-4285-9c88-5aea3b9935ed
X-WR-CALDESC:
X-WR-RELCALID:17f4698316a62d7484b04a51a6df9132
X-WR-TIMEZONE:America/Chicago
BEGIN:VTIMEZONE
TZID:America/Chicago
BEGIN:STANDARD
TZNAME:CST
DTSTART:20261101T020000
TZOFFSETFROM:-0500
TZOFFSETTO:-0600
RDATE:20271107T020000
RDATE:20281105T020000
END:STANDARD
BEGIN:DAYLIGHT
TZNAME:CDT
DTSTART:20270314T020000
TZOFFSETFROM:-0600
TZOFFSETTO:-0500
RDATE:20280312T020000
END:DAYLIGHT
END:VTIMEZONE
BEGIN:VEVENT
UID:a158c90c-0918-49a8-8ef7-3c8640d2b51f
DTSTAMP:20260423T100530Z
DESCRIPTION:
DTSTART;TZID=America/Chicago:20270531T050000
DTEND;TZID=America/Chicago:20270531T050001
LOCATION:
SUMMARY:Memorial Day
END:VEVENT
END:VCALENDAR
