BEGIN:VCALENDAR
VERSION:2.0
PRODID:-//tandcschool.org//NONSGML kigkonsult.se iCalcreator 2.30.10//
CALSCALE:GREGORIAN
METHOD:PUBLISH
UID:62f0cd2f-30fb-4ff7-8b9c-c2fa9b7abbb4
X-WR-CALDESC:
X-WR-RELCALID:5e63d1f2fb4889a6c3bb0a8638cea70e
X-WR-TIMEZONE:America/Chicago
BEGIN:VTIMEZONE
TZID:America/Chicago
BEGIN:STANDARD
TZNAME:CST
DTSTART:20261101T020000
TZOFFSETFROM:-0500
TZOFFSETTO:-0600
RDATE:20271107T020000
RDATE:20281105T020000
END:STANDARD
BEGIN:DAYLIGHT
TZNAME:CDT
DTSTART:20270314T020000
TZOFFSETFROM:-0600
TZOFFSETTO:-0500
RDATE:20280312T020000
END:DAYLIGHT
END:VTIMEZONE
BEGIN:VEVENT
UID:9286b5ae-7ee1-4cf2-a27c-5fa2b55ca24d
DTSTAMP:20260423T102147Z
DESCRIPTION:
DTSTART;TZID=America/Chicago:20270528T050000
DTEND;TZID=America/Chicago:20270528T050001
LOCATION:
SUMMARY:Last Day for Staff
END:VEVENT
END:VCALENDAR
