BEGIN:VCALENDAR
VERSION:2.0
PRODID:-//tandcschool.org//NONSGML kigkonsult.se iCalcreator 2.30.10//
CALSCALE:GREGORIAN
METHOD:PUBLISH
UID:6035182b-a1a2-47f1-8e3e-3a4b0d9f6375
X-WR-CALDESC:
X-WR-RELCALID:075880f67d990d96a70b4af8806b13d2
X-WR-TIMEZONE:America/Chicago
BEGIN:VTIMEZONE
TZID:America/Chicago
BEGIN:STANDARD
TZNAME:CST
DTSTART:20261101T020000
TZOFFSETFROM:-0500
TZOFFSETTO:-0600
RDATE:20271107T020000
RDATE:20281105T020000
END:STANDARD
BEGIN:DAYLIGHT
TZNAME:CDT
DTSTART:20270314T020000
TZOFFSETFROM:-0600
TZOFFSETTO:-0500
RDATE:20280312T020000
END:DAYLIGHT
END:VTIMEZONE
BEGIN:VEVENT
UID:c58db0cf-5605-4424-8a02-731957629e06
DTSTAMP:20260423T100416Z
DESCRIPTION:
DTSTART;TZID=America/Chicago:20270527T050000
DTEND;TZID=America/Chicago:20270527T050001
LOCATION:
SUMMARY:End of Third Trimester
END:VEVENT
END:VCALENDAR
