BEGIN:VCALENDAR
VERSION:2.0
PRODID:-//tandcschool.org//NONSGML kigkonsult.se iCalcreator 2.30.10//
CALSCALE:GREGORIAN
METHOD:PUBLISH
UID:0fa13a91-d16d-433f-bd17-6e9b9407339e
X-WR-CALDESC:
X-WR-RELCALID:bc86ad9ded960eae9510265f64bd4aca
X-WR-TIMEZONE:America/Chicago
BEGIN:VTIMEZONE
TZID:America/Chicago
BEGIN:STANDARD
TZNAME:CST
DTSTART:20261101T020000
TZOFFSETFROM:-0500
TZOFFSETTO:-0600
RDATE:20271107T020000
RDATE:20281105T020000
END:STANDARD
BEGIN:DAYLIGHT
TZNAME:CDT
DTSTART:20270314T020000
TZOFFSETFROM:-0600
TZOFFSETTO:-0500
RDATE:20280312T020000
END:DAYLIGHT
END:VTIMEZONE
BEGIN:VEVENT
UID:d4b0ddf9-dbba-48e9-b180-c5e722be2320
DTSTAMP:20260423T100515Z
DESCRIPTION:
DTSTART;TZID=America/Chicago:20270527T050000
DTEND;TZID=America/Chicago:20270527T050001
LOCATION:
SUMMARY:End of Second Semester
END:VEVENT
END:VCALENDAR
