BEGIN:VCALENDAR
VERSION:2.0
PRODID:-//tandcschool.org//NONSGML kigkonsult.se iCalcreator 2.30.10//
CALSCALE:GREGORIAN
METHOD:PUBLISH
UID:607a3fed-fd82-44a5-86bb-1ba7d571e315
X-WR-CALDESC:
X-WR-RELCALID:e0ee498d8281bb68ffeca411ce5a6e5b
X-WR-TIMEZONE:America/Chicago
BEGIN:VTIMEZONE
TZID:America/Chicago
BEGIN:STANDARD
TZNAME:CST
DTSTART:20261101T020000
TZOFFSETFROM:-0500
TZOFFSETTO:-0600
RDATE:20271107T020000
END:STANDARD
BEGIN:DAYLIGHT
TZNAME:CDT
DTSTART:20270314T020000
TZOFFSETFROM:-0600
TZOFFSETTO:-0500
RDATE:20280312T020000
END:DAYLIGHT
END:VTIMEZONE
BEGIN:VEVENT
UID:e16350e4-ffec-4be7-a4ff-78a21348a432
DTSTAMP:20260423T083643Z
DESCRIPTION:
DTSTART;TZID=America/Chicago:20270430T050000
DTEND;TZID=America/Chicago:20270430T050001
LOCATION:
SUMMARY:Half Day
END:VEVENT
END:VCALENDAR
