BEGIN:VCALENDAR
VERSION:2.0
PRODID:-//tandcschool.org//NONSGML kigkonsult.se iCalcreator 2.30.10//
CALSCALE:GREGORIAN
METHOD:PUBLISH
UID:eda86bee-f554-4b00-84e2-aca2c2043b11
X-WR-CALDESC:
X-WR-RELCALID:346d2f1889f25ea308178cd79c12b636
X-WR-TIMEZONE:America/Chicago
BEGIN:VTIMEZONE
TZID:America/Chicago
BEGIN:STANDARD
TZNAME:CST
DTSTART:20261101T020000
TZOFFSETFROM:-0500
TZOFFSETTO:-0600
RDATE:20271107T020000
END:STANDARD
BEGIN:DAYLIGHT
TZNAME:CDT
DTSTART:20270314T020000
TZOFFSETFROM:-0600
TZOFFSETTO:-0500
RDATE:20280312T020000
END:DAYLIGHT
END:VTIMEZONE
BEGIN:VEVENT
UID:f8995623-b274-4fdd-b8c4-ac97dce58453
DTSTAMP:20260423T083707Z
DESCRIPTION:
DTSTART;TZID=America/Chicago:20270416T050000
DTEND;TZID=America/Chicago:20270419T050001
LOCATION:
SUMMARY:April Break
END:VEVENT
END:VCALENDAR
