BEGIN:VCALENDAR
VERSION:2.0
PRODID:-//tandcschool.org//NONSGML kigkonsult.se iCalcreator 2.30.10//
CALSCALE:GREGORIAN
METHOD:PUBLISH
UID:76ab3629-9389-4c4c-8046-005aa797313b
X-WR-CALDESC:
X-WR-RELCALID:bf11e4c7876ba0b9da7c4f6854d9ce24
X-WR-TIMEZONE:America/Chicago
BEGIN:VTIMEZONE
TZID:America/Chicago
BEGIN:STANDARD
TZNAME:CST
DTSTART:20261101T020000
TZOFFSETFROM:-0500
TZOFFSETTO:-0600
RDATE:20271107T020000
END:STANDARD
BEGIN:DAYLIGHT
TZNAME:CDT
DTSTART:20270314T020000
TZOFFSETFROM:-0600
TZOFFSETTO:-0500
RDATE:20280312T020000
END:DAYLIGHT
END:VTIMEZONE
BEGIN:VEVENT
UID:925430aa-5271-4c11-97f3-b0c335ae7325
DTSTAMP:20260423T083815Z
DESCRIPTION:
DTSTART;TZID=America/Chicago:20270402T050000
DTEND;TZID=America/Chicago:20270402T050001
LOCATION:
SUMMARY:End of Third Quarter
END:VEVENT
END:VCALENDAR
