BEGIN:VCALENDAR
VERSION:2.0
PRODID:-//tandcschool.org//NONSGML kigkonsult.se iCalcreator 2.30.10//
CALSCALE:GREGORIAN
METHOD:PUBLISH
UID:60a6648f-d994-4f10-beb3-52d729fa3e6f
X-WR-CALDESC:
X-WR-RELCALID:8d82e68378c37577210d464e5003b551
X-WR-TIMEZONE:America/Chicago
BEGIN:VTIMEZONE
TZID:America/Chicago
BEGIN:STANDARD
TZNAME:CST
DTSTART:20241103T020000
TZOFFSETFROM:-0500
TZOFFSETTO:-0600
RDATE:20251102T020000
END:STANDARD
BEGIN:DAYLIGHT
TZNAME:CDT
DTSTART:20250309T020000
TZOFFSETFROM:-0600
TZOFFSETTO:-0500
RDATE:20260308T020000
END:DAYLIGHT
END:VTIMEZONE
BEGIN:VEVENT
UID:b6bfcee3-ec4f-40db-b3a9-f32126e3bb7f
DTSTAMP:20260423T083933Z
DESCRIPTION:
DTSTART;TZID=America/Chicago:20250331T150000
DTEND;TZID=America/Chicago:20250331T160000
LOCATION:
SUMMARY:MS Lego Club
END:VEVENT
END:VCALENDAR
