BEGIN:VCALENDAR
VERSION:2.0
PRODID:-//tandcschool.org//NONSGML kigkonsult.se iCalcreator 2.30.10//
CALSCALE:GREGORIAN
METHOD:PUBLISH
UID:b5c76371-9333-4bf9-a879-b3b63ff688ab
X-WR-CALDESC:
X-WR-RELCALID:80bb7f4a2464242c2604aee9c9e90121
X-WR-TIMEZONE:America/Chicago
BEGIN:VTIMEZONE
TZID:America/Chicago
BEGIN:STANDARD
TZNAME:CST
DTSTART:20241103T020000
TZOFFSETFROM:-0500
TZOFFSETTO:-0600
RDATE:20251102T020000
END:STANDARD
BEGIN:DAYLIGHT
TZNAME:CDT
DTSTART:20250309T020000
TZOFFSETFROM:-0600
TZOFFSETTO:-0500
RDATE:20260308T020000
END:DAYLIGHT
END:VTIMEZONE
BEGIN:VEVENT
UID:6d5de009-42e7-4078-b9a2-bcf0044559cc
DTSTAMP:20260423T084649Z
DESCRIPTION:
DTSTART;TZID=America/Chicago:20250331T152000
DTEND;TZID=America/Chicago:20250331T160000
LOCATION:
SUMMARY:LS Art Club B
END:VEVENT
END:VCALENDAR
