BEGIN:VCALENDAR
VERSION:2.0
PRODID:-//tandcschool.org//NONSGML kigkonsult.se iCalcreator 2.30.10//
CALSCALE:GREGORIAN
METHOD:PUBLISH
UID:ce814725-36ef-45a6-b69e-fed0d481def9
X-WR-CALDESC:
X-WR-RELCALID:e6853aad80087a9807fbe59433c6c887
X-WR-TIMEZONE:America/Chicago
BEGIN:VTIMEZONE
TZID:America/Chicago
BEGIN:STANDARD
TZNAME:CST
DTSTART:20241103T020000
TZOFFSETFROM:-0500
TZOFFSETTO:-0600
RDATE:20251102T020000
END:STANDARD
BEGIN:DAYLIGHT
TZNAME:CDT
DTSTART:20250309T020000
TZOFFSETFROM:-0600
TZOFFSETTO:-0500
RDATE:20260308T020000
END:DAYLIGHT
END:VTIMEZONE
BEGIN:VEVENT
UID:6b545d73-7241-4f3e-bbcc-53ebb10d4a09
DTSTAMP:20260423T090508Z
DESCRIPTION:
DTSTART;TZID=America/Chicago:20250331T150000
DTEND;TZID=America/Chicago:20250331T160000
LOCATION:
SUMMARY:Cheer
END:VEVENT
END:VCALENDAR
