BEGIN:VCALENDAR
VERSION:2.0
PRODID:-//tandcschool.org//NONSGML kigkonsult.se iCalcreator 2.30.10//
CALSCALE:GREGORIAN
METHOD:PUBLISH
UID:6bcc352f-7b47-4f09-bda5-d16e97882ed2
X-WR-CALDESC:
X-WR-RELCALID:75cb9fadbf79869694a8c7c5f596a924
X-WR-TIMEZONE:America/Chicago
BEGIN:VTIMEZONE
TZID:America/Chicago
BEGIN:STANDARD
TZNAME:CST
DTSTART:20241103T020000
TZOFFSETFROM:-0500
TZOFFSETTO:-0600
RDATE:20251102T020000
END:STANDARD
BEGIN:DAYLIGHT
TZNAME:CDT
DTSTART:20250309T020000
TZOFFSETFROM:-0600
TZOFFSETTO:-0500
RDATE:20260308T020000
END:DAYLIGHT
END:VTIMEZONE
BEGIN:VEVENT
UID:433e977b-b78b-4e24-84d6-aa2606c19bf7
DTSTAMP:20260423T085121Z
DESCRIPTION:
DTSTART;TZID=America/Chicago:20250329T190000
DTEND;TZID=America/Chicago:20250329T220000
LOCATION:
SUMMARY:Prom
END:VEVENT
END:VCALENDAR
