BEGIN:VCALENDAR
VERSION:2.0
PRODID:-//tandcschool.org//NONSGML kigkonsult.se iCalcreator 2.30.10//
CALSCALE:GREGORIAN
METHOD:PUBLISH
UID:51687bb8-b52a-4841-a5da-0e24438f09d9
X-WR-CALDESC:
X-WR-RELCALID:a920d9bf5ccb6deb45b7a4908daf35b7
X-WR-TIMEZONE:America/Chicago
BEGIN:VTIMEZONE
TZID:America/Chicago
BEGIN:STANDARD
TZNAME:CST
DTSTART:20241103T020000
TZOFFSETFROM:-0500
TZOFFSETTO:-0600
RDATE:20251102T020000
END:STANDARD
BEGIN:DAYLIGHT
TZNAME:CDT
DTSTART:20250309T020000
TZOFFSETFROM:-0600
TZOFFSETTO:-0500
RDATE:20260308T020000
END:DAYLIGHT
END:VTIMEZONE
BEGIN:VEVENT
UID:873a99b2-7639-4673-9d48-0df87e0ade71
DTSTAMP:20260423T085700Z
DESCRIPTION:
DTSTART;TZID=America/Chicago:20250328T150000
DTEND;TZID=America/Chicago:20250328T154500
LOCATION:
SUMMARY:Gaming Club B
END:VEVENT
END:VCALENDAR
