BEGIN:VCALENDAR
VERSION:2.0
PRODID:-//tandcschool.org//NONSGML kigkonsult.se iCalcreator 2.30.10//
CALSCALE:GREGORIAN
METHOD:PUBLISH
UID:63cfdef3-4f2c-4199-a1c6-1ff15c6b6d80
X-WR-CALDESC:
X-WR-RELCALID:4abbc0ee10c1facb5dee1866c4d2723b
X-WR-TIMEZONE:America/Chicago
BEGIN:VTIMEZONE
TZID:America/Chicago
BEGIN:STANDARD
TZNAME:CST
DTSTART:20241103T020000
TZOFFSETFROM:-0500
TZOFFSETTO:-0600
RDATE:20251102T020000
END:STANDARD
BEGIN:DAYLIGHT
TZNAME:CDT
DTSTART:20250309T020000
TZOFFSETFROM:-0600
TZOFFSETTO:-0500
RDATE:20260308T020000
END:DAYLIGHT
END:VTIMEZONE
BEGIN:VEVENT
UID:b2700423-f9a2-42b0-a207-948afc39cb8a
DTSTAMP:20260423T084914Z
DESCRIPTION:
DTSTART;TZID=America/Chicago:20250328T150000
DTEND;TZID=America/Chicago:20250328T154500
LOCATION:
SUMMARY:Astronomy Club
END:VEVENT
END:VCALENDAR
