BEGIN:VCALENDAR
VERSION:2.0
PRODID:-//tandcschool.org//NONSGML kigkonsult.se iCalcreator 2.30.10//
CALSCALE:GREGORIAN
METHOD:PUBLISH
UID:f5dee33f-53a3-42a1-a89f-bc5749b98fc5
X-WR-CALDESC:
X-WR-RELCALID:3e57a0f737ed13707e6f7b873ee12510
X-WR-TIMEZONE:America/Chicago
BEGIN:VTIMEZONE
TZID:America/Chicago
BEGIN:STANDARD
TZNAME:CST
DTSTART:20241103T020000
TZOFFSETFROM:-0500
TZOFFSETTO:-0600
RDATE:20251102T020000
END:STANDARD
BEGIN:DAYLIGHT
TZNAME:CDT
DTSTART:20250309T020000
TZOFFSETFROM:-0600
TZOFFSETTO:-0500
RDATE:20260308T020000
END:DAYLIGHT
END:VTIMEZONE
BEGIN:VEVENT
UID:1ce9fd17-40cf-4501-97f2-0e139fa3d97d
DTSTAMP:20260423T083836Z
DESCRIPTION:
DTSTART;TZID=America/Chicago:20250327T150000
DTEND;TZID=America/Chicago:20250327T154500
LOCATION:
SUMMARY:MS Running Club
END:VEVENT
END:VCALENDAR
