BEGIN:VCALENDAR
VERSION:2.0
PRODID:-//tandcschool.org//NONSGML kigkonsult.se iCalcreator 2.30.10//
CALSCALE:GREGORIAN
METHOD:PUBLISH
UID:8785b9fe-8c51-4298-890a-0c30b39c100c
X-WR-CALDESC:
X-WR-RELCALID:7d530c6f0cfbea7f63ef37602af51405
X-WR-TIMEZONE:America/Chicago
BEGIN:VTIMEZONE
TZID:America/Chicago
BEGIN:STANDARD
TZNAME:CST
DTSTART:20241103T020000
TZOFFSETFROM:-0500
TZOFFSETTO:-0600
RDATE:20251102T020000
END:STANDARD
BEGIN:DAYLIGHT
TZNAME:CDT
DTSTART:20250309T020000
TZOFFSETFROM:-0600
TZOFFSETTO:-0500
RDATE:20260308T020000
END:DAYLIGHT
END:VTIMEZONE
BEGIN:VEVENT
UID:a14b48c4-8f2c-4762-91b7-18f37a82dd04
DTSTAMP:20260423T085329Z
DESCRIPTION:
DTSTART;TZID=America/Chicago:20250327T152000
DTEND;TZID=America/Chicago:20250327T160000
LOCATION:
SUMMARY:LS Running Club
END:VEVENT
END:VCALENDAR
