BEGIN:VCALENDAR
VERSION:2.0
PRODID:-//tandcschool.org//NONSGML kigkonsult.se iCalcreator 2.30.10//
CALSCALE:GREGORIAN
METHOD:PUBLISH
UID:1b16450c-3895-4991-81c9-8812dbcef6da
X-WR-CALDESC:
X-WR-RELCALID:1e8c65011c2301e3dc6cca1445594d63
X-WR-TIMEZONE:America/Chicago
BEGIN:VTIMEZONE
TZID:America/Chicago
BEGIN:STANDARD
TZNAME:CST
DTSTART:20241103T020000
TZOFFSETFROM:-0500
TZOFFSETTO:-0600
RDATE:20251102T020000
END:STANDARD
BEGIN:DAYLIGHT
TZNAME:CDT
DTSTART:20250309T020000
TZOFFSETFROM:-0600
TZOFFSETTO:-0500
RDATE:20260308T020000
END:DAYLIGHT
END:VTIMEZONE
BEGIN:VEVENT
UID:526df0ae-ba6d-45ed-9183-7c4dff70daf8
DTSTAMP:20260423T084130Z
DESCRIPTION:
DTSTART;TZID=America/Chicago:20250327T093000
DTEND;TZID=America/Chicago:20250327T130000
LOCATION:
SUMMARY:HS Astronomy Field Trip
END:VEVENT
END:VCALENDAR
