BEGIN:VCALENDAR
VERSION:2.0
PRODID:-//tandcschool.org//NONSGML kigkonsult.se iCalcreator 2.30.10//
CALSCALE:GREGORIAN
METHOD:PUBLISH
UID:73aa8068-ab95-4e20-b2e7-7c2039f7a30d
X-WR-CALDESC:
X-WR-RELCALID:bd500ca76d552735a28e046bace54566
X-WR-TIMEZONE:America/Chicago
BEGIN:VTIMEZONE
TZID:America/Chicago
BEGIN:STANDARD
TZNAME:CST
DTSTART:20241103T020000
TZOFFSETFROM:-0500
TZOFFSETTO:-0600
RDATE:20251102T020000
END:STANDARD
BEGIN:DAYLIGHT
TZNAME:CDT
DTSTART:20250309T020000
TZOFFSETFROM:-0600
TZOFFSETTO:-0500
RDATE:20260308T020000
END:DAYLIGHT
END:VTIMEZONE
BEGIN:VEVENT
UID:b291868c-26b4-4fe8-b4b2-9c6ae7a162d6
DTSTAMP:20260423T084310Z
DESCRIPTION:
DTSTART;TZID=America/Chicago:20250327T151500
DTEND;TZID=America/Chicago:20250327T160000
LOCATION:
SUMMARY:Band
END:VEVENT
END:VCALENDAR
