BEGIN:VCALENDAR
VERSION:2.0
PRODID:-//tandcschool.org//NONSGML kigkonsult.se iCalcreator 2.30.10//
CALSCALE:GREGORIAN
METHOD:PUBLISH
UID:11c40f85-a096-4b3e-8b74-8f2b7e9f8d1b
X-WR-CALDESC:
X-WR-RELCALID:17876d34818626d3b72ac4491d2300dc
X-WR-TIMEZONE:America/Chicago
BEGIN:VTIMEZONE
TZID:America/Chicago
BEGIN:STANDARD
TZNAME:CST
DTSTART:20241103T020000
TZOFFSETFROM:-0500
TZOFFSETTO:-0600
RDATE:20251102T020000
END:STANDARD
BEGIN:DAYLIGHT
TZNAME:CDT
DTSTART:20250309T020000
TZOFFSETFROM:-0600
TZOFFSETTO:-0500
RDATE:20260308T020000
END:DAYLIGHT
END:VTIMEZONE
BEGIN:VEVENT
UID:c9b83c73-2ab6-42cc-a08b-c9b36426871d
DTSTAMP:20260423T084135Z
DESCRIPTION:
DTSTART;TZID=America/Chicago:20250326T152000
DTEND;TZID=America/Chicago:20250326T160000
LOCATION:
SUMMARY:Production Club
END:VEVENT
END:VCALENDAR
