BEGIN:VCALENDAR
VERSION:2.0
PRODID:-//tandcschool.org//NONSGML kigkonsult.se iCalcreator 2.30.10//
CALSCALE:GREGORIAN
METHOD:PUBLISH
UID:a45c0c33-cf4c-4f3e-99f4-6b089e6c825e
X-WR-CALDESC:
X-WR-RELCALID:c3baa2e6f179c8a988c779d51116b66a
X-WR-TIMEZONE:America/Chicago
BEGIN:VTIMEZONE
TZID:America/Chicago
BEGIN:STANDARD
TZNAME:CST
DTSTART:20241103T020000
TZOFFSETFROM:-0500
TZOFFSETTO:-0600
RDATE:20251102T020000
END:STANDARD
BEGIN:DAYLIGHT
TZNAME:CDT
DTSTART:20250309T020000
TZOFFSETFROM:-0600
TZOFFSETTO:-0500
RDATE:20260308T020000
END:DAYLIGHT
END:VTIMEZONE
BEGIN:VEVENT
UID:393afd9e-cab2-417e-b4d7-6bed1c0eb127
DTSTAMP:20260423T083643Z
DESCRIPTION:
DTSTART;TZID=America/Chicago:20250326T050000
DTEND;TZID=America/Chicago:20250326T050001
LOCATION:
SUMMARY:Grades Due
END:VEVENT
END:VCALENDAR
