BEGIN:VCALENDAR
VERSION:2.0
PRODID:-//tandcschool.org//NONSGML kigkonsult.se iCalcreator 2.30.10//
CALSCALE:GREGORIAN
METHOD:PUBLISH
UID:b542f60d-6f65-46b1-be7b-fa917e18d780
X-WR-CALDESC:
X-WR-RELCALID:2d84807b62847917ee35d78804005ec9
X-WR-TIMEZONE:America/Chicago
BEGIN:VTIMEZONE
TZID:America/Chicago
BEGIN:STANDARD
TZNAME:CST
DTSTART:20241103T020000
TZOFFSETFROM:-0500
TZOFFSETTO:-0600
RDATE:20251102T020000
END:STANDARD
BEGIN:DAYLIGHT
TZNAME:CDT
DTSTART:20250309T020000
TZOFFSETFROM:-0600
TZOFFSETTO:-0500
RDATE:20260308T020000
END:DAYLIGHT
END:VTIMEZONE
BEGIN:VEVENT
UID:77f9eb32-cf7b-4904-9449-08aae9db878c
DTSTAMP:20260423T084115Z
DESCRIPTION:
DTSTART;TZID=America/Chicago:20250325T152000
DTEND;TZID=America/Chicago:20250325T160000
LOCATION:
SUMMARY:LS Lego Club
END:VEVENT
END:VCALENDAR
