BEGIN:VCALENDAR
VERSION:2.0
PRODID:-//tandcschool.org//NONSGML kigkonsult.se iCalcreator 2.30.10//
CALSCALE:GREGORIAN
METHOD:PUBLISH
UID:01ffa9c3-0451-4afd-b4b6-8645234ee222
X-WR-CALDESC:
X-WR-RELCALID:b1f6a264c028052184bf9cfd90e1128c
X-WR-TIMEZONE:America/Chicago
BEGIN:VTIMEZONE
TZID:America/Chicago
BEGIN:STANDARD
TZNAME:CST
DTSTART:20241103T020000
TZOFFSETFROM:-0500
TZOFFSETTO:-0600
RDATE:20251102T020000
END:STANDARD
BEGIN:DAYLIGHT
TZNAME:CDT
DTSTART:20250309T020000
TZOFFSETFROM:-0600
TZOFFSETTO:-0500
RDATE:20260308T020000
END:DAYLIGHT
END:VTIMEZONE
BEGIN:VEVENT
UID:c08ccc47-c827-4599-b876-b9d062d0ddad
DTSTAMP:20260423T084130Z
DESCRIPTION:
DTSTART;TZID=America/Chicago:20250324T152000
DTEND;TZID=America/Chicago:20250324T160000
LOCATION:
SUMMARY:Production Club
END:VEVENT
END:VCALENDAR
