BEGIN:VCALENDAR
VERSION:2.0
PRODID:-//tandcschool.org//NONSGML kigkonsult.se iCalcreator 2.30.10//
CALSCALE:GREGORIAN
METHOD:PUBLISH
UID:de947dbb-bab4-4070-bf7a-d680c14259e0
X-WR-CALDESC:
X-WR-RELCALID:5016b8b2d7ae08fc5c996889dee009cf
X-WR-TIMEZONE:America/Chicago
BEGIN:VTIMEZONE
TZID:America/Chicago
BEGIN:STANDARD
TZNAME:CST
DTSTART:20241103T020000
TZOFFSETFROM:-0500
TZOFFSETTO:-0600
RDATE:20251102T020000
END:STANDARD
BEGIN:DAYLIGHT
TZNAME:CDT
DTSTART:20250309T020000
TZOFFSETFROM:-0600
TZOFFSETTO:-0500
RDATE:20260308T020000
END:DAYLIGHT
END:VTIMEZONE
BEGIN:VEVENT
UID:e71ef579-da52-4d54-bdad-4aa332db375e
DTSTAMP:20260423T083845Z
DESCRIPTION:
DTSTART;TZID=America/Chicago:20250324T150000
DTEND;TZID=America/Chicago:20250324T154500
LOCATION:
SUMMARY:NHS Meeting
END:VEVENT
END:VCALENDAR
