BEGIN:VCALENDAR
VERSION:2.0
PRODID:-//tandcschool.org//NONSGML kigkonsult.se iCalcreator 2.30.10//
CALSCALE:GREGORIAN
METHOD:PUBLISH
UID:7469939d-0642-4957-9c66-cd69857734a4
X-WR-CALDESC:
X-WR-RELCALID:56210131a133ce1fe7fbd24b45b15468
X-WR-TIMEZONE:America/Chicago
BEGIN:VTIMEZONE
TZID:America/Chicago
BEGIN:STANDARD
TZNAME:CST
DTSTART:20241103T020000
TZOFFSETFROM:-0500
TZOFFSETTO:-0600
RDATE:20251102T020000
END:STANDARD
BEGIN:DAYLIGHT
TZNAME:CDT
DTSTART:20250309T020000
TZOFFSETFROM:-0600
TZOFFSETTO:-0500
RDATE:20260308T020000
END:DAYLIGHT
END:VTIMEZONE
BEGIN:VEVENT
UID:7f31a818-cd96-49da-b444-bcb72f819b65
DTSTAMP:20260423T085329Z
DESCRIPTION:
DTSTART;TZID=America/Chicago:20250324T152000
DTEND;TZID=America/Chicago:20250324T160000
LOCATION:
SUMMARY:LS Art Club A
END:VEVENT
END:VCALENDAR
