BEGIN:VCALENDAR
VERSION:2.0
PRODID:-//tandcschool.org//NONSGML kigkonsult.se iCalcreator 2.30.10//
CALSCALE:GREGORIAN
METHOD:PUBLISH
UID:e928392c-38f1-4d8e-be39-6b6aa742aa6d
X-WR-CALDESC:
X-WR-RELCALID:f44564ce98c89eedac31659a01402a91
X-WR-TIMEZONE:America/Chicago
BEGIN:VTIMEZONE
TZID:America/Chicago
BEGIN:STANDARD
TZNAME:CST
DTSTART:20241103T020000
TZOFFSETFROM:-0500
TZOFFSETTO:-0600
RDATE:20251102T020000
END:STANDARD
BEGIN:DAYLIGHT
TZNAME:CDT
DTSTART:20250309T020000
TZOFFSETFROM:-0600
TZOFFSETTO:-0500
RDATE:20260308T020000
END:DAYLIGHT
END:VTIMEZONE
BEGIN:VEVENT
UID:bc0c8e5b-ba8c-4764-8557-099dcc0aca02
DTSTAMP:20260423T084009Z
DESCRIPTION:
DTSTART;TZID=America/Chicago:20250324T150000
DTEND;TZID=America/Chicago:20250324T160000
LOCATION:
SUMMARY:Cheer
END:VEVENT
END:VCALENDAR
