BEGIN:VCALENDAR
VERSION:2.0
PRODID:-//tandcschool.org//NONSGML kigkonsult.se iCalcreator 2.30.10//
CALSCALE:GREGORIAN
METHOD:PUBLISH
UID:7d04a4b7-bbe7-4487-9c03-c852f0929e5b
X-WR-CALDESC:
X-WR-RELCALID:7b5564e40b26bdf292608fe54302b520
X-WR-TIMEZONE:America/Chicago
BEGIN:VTIMEZONE
TZID:America/Chicago
BEGIN:STANDARD
TZNAME:CST
DTSTART:20241103T020000
TZOFFSETFROM:-0500
TZOFFSETTO:-0600
RDATE:20251102T020000
END:STANDARD
BEGIN:DAYLIGHT
TZNAME:CDT
DTSTART:20250309T020000
TZOFFSETFROM:-0600
TZOFFSETTO:-0500
RDATE:20260308T020000
END:DAYLIGHT
END:VTIMEZONE
BEGIN:VEVENT
UID:735fad3d-5696-4346-aced-820899b10ca1
DTSTAMP:20260423T085647Z
DESCRIPTION:
DTSTART;TZID=America/Chicago:20250314T050000
DTEND;TZID=America/Chicago:20250314T050001
LOCATION:
SUMMARY:Tulsa Zoo Run Entries Due
END:VEVENT
END:VCALENDAR
