BEGIN:VCALENDAR
VERSION:2.0
PRODID:-//tandcschool.org//NONSGML kigkonsult.se iCalcreator 2.30.10//
CALSCALE:GREGORIAN
METHOD:PUBLISH
UID:bcb6f461-f172-4808-a95e-b4123647f60f
X-WR-CALDESC:
X-WR-RELCALID:0b46b7a63b4f1f576ee3d0c174c4c920
X-WR-TIMEZONE:America/Chicago
BEGIN:VTIMEZONE
TZID:America/Chicago
BEGIN:STANDARD
TZNAME:CST
DTSTART:20241103T020000
TZOFFSETFROM:-0500
TZOFFSETTO:-0600
RDATE:20251102T020000
END:STANDARD
BEGIN:DAYLIGHT
TZNAME:CDT
DTSTART:20250309T020000
TZOFFSETFROM:-0600
TZOFFSETTO:-0500
RDATE:20260308T020000
END:DAYLIGHT
END:VTIMEZONE
BEGIN:VEVENT
UID:390e8667-a6ae-430f-81ac-e2841a9c05ca
DTSTAMP:20260423T084010Z
DESCRIPTION:
DTSTART;TZID=America/Chicago:20250314T150000
DTEND;TZID=America/Chicago:20250314T154500
LOCATION:
SUMMARY:Gaming Club A
END:VEVENT
END:VCALENDAR
