BEGIN:VCALENDAR
VERSION:2.0
PRODID:-//tandcschool.org//NONSGML kigkonsult.se iCalcreator 2.30.10//
CALSCALE:GREGORIAN
METHOD:PUBLISH
UID:2da3192d-b452-4909-bb52-3f2358c26da6
X-WR-CALDESC:
X-WR-RELCALID:26153ff45e414062651ff7ab8f8ccc5e
X-WR-TIMEZONE:America/Chicago
BEGIN:VTIMEZONE
TZID:America/Chicago
BEGIN:STANDARD
TZNAME:CST
DTSTART:20241103T020000
TZOFFSETFROM:-0500
TZOFFSETTO:-0600
RDATE:20251102T020000
END:STANDARD
BEGIN:DAYLIGHT
TZNAME:CDT
DTSTART:20250309T020000
TZOFFSETFROM:-0600
TZOFFSETTO:-0500
RDATE:20260308T020000
END:DAYLIGHT
END:VTIMEZONE
BEGIN:VEVENT
UID:867e8c5e-727c-45f8-a654-09bffd6b4e4f
DTSTAMP:20260423T084408Z
DESCRIPTION:
DTSTART;TZID=America/Chicago:20250314T050000
DTEND;TZID=America/Chicago:20250314T050001
LOCATION:
SUMMARY:Free Dress Day
END:VEVENT
END:VCALENDAR
