BEGIN:VCALENDAR
VERSION:2.0
PRODID:-//tandcschool.org//NONSGML kigkonsult.se iCalcreator 2.30.10//
CALSCALE:GREGORIAN
METHOD:PUBLISH
UID:daa202f3-ae32-4c99-87a9-e04538d020bd
X-WR-CALDESC:
X-WR-RELCALID:18670f9194d6e898490997822f1eb016
X-WR-TIMEZONE:America/Chicago
BEGIN:VTIMEZONE
TZID:America/Chicago
BEGIN:STANDARD
TZNAME:CST
DTSTART:20241103T020000
TZOFFSETFROM:-0500
TZOFFSETTO:-0600
RDATE:20251102T020000
END:STANDARD
BEGIN:DAYLIGHT
TZNAME:CDT
DTSTART:20250309T020000
TZOFFSETFROM:-0600
TZOFFSETTO:-0500
RDATE:20260308T020000
END:DAYLIGHT
END:VTIMEZONE
BEGIN:VEVENT
UID:a0d95ea6-1c6d-4698-be34-b560e0fc7047
DTSTAMP:20260423T084433Z
DESCRIPTION:
DTSTART;TZID=America/Chicago:20250313T123000
DTEND;TZID=America/Chicago:20250313T143000
LOCATION:
SUMMARY:Senior Picture Field Trip
END:VEVENT
END:VCALENDAR
