BEGIN:VCALENDAR
VERSION:2.0
PRODID:-//tandcschool.org//NONSGML kigkonsult.se iCalcreator 2.30.10//
CALSCALE:GREGORIAN
METHOD:PUBLISH
UID:5a0fe375-a432-4709-8190-a1610741e7f4
X-WR-CALDESC:
X-WR-RELCALID:63e8ee712d3586804df374622f8bf51f
X-WR-TIMEZONE:America/Chicago
BEGIN:VTIMEZONE
TZID:America/Chicago
BEGIN:STANDARD
TZNAME:CST
DTSTART:20241103T020000
TZOFFSETFROM:-0500
TZOFFSETTO:-0600
RDATE:20251102T020000
END:STANDARD
BEGIN:DAYLIGHT
TZNAME:CDT
DTSTART:20250309T020000
TZOFFSETFROM:-0600
TZOFFSETTO:-0500
RDATE:20260308T020000
END:DAYLIGHT
END:VTIMEZONE
BEGIN:VEVENT
UID:28bc99f2-48ae-49ad-8ee6-e1876a88b1bb
DTSTAMP:20260423T083845Z
DESCRIPTION:
DTSTART;TZID=America/Chicago:20250313T050000
DTEND;TZID=America/Chicago:20250313T050001
LOCATION:
SUMMARY:End of Third Quarter
END:VEVENT
END:VCALENDAR
