BEGIN:VCALENDAR
VERSION:2.0
PRODID:-//tandcschool.org//NONSGML kigkonsult.se iCalcreator 2.30.10//
CALSCALE:GREGORIAN
METHOD:PUBLISH
UID:bd58fa0d-e8c8-4f81-8b66-00edc2bc4d32
X-WR-CALDESC:
X-WR-RELCALID:44bf187d13c939fa71f2cd0ab4707961
X-WR-TIMEZONE:America/Chicago
BEGIN:VTIMEZONE
TZID:America/Chicago
BEGIN:STANDARD
TZNAME:CST
DTSTART:20241103T020000
TZOFFSETFROM:-0500
TZOFFSETTO:-0600
RDATE:20251102T020000
END:STANDARD
BEGIN:DAYLIGHT
TZNAME:CDT
DTSTART:20250309T020000
TZOFFSETFROM:-0600
TZOFFSETTO:-0500
RDATE:20260308T020000
END:DAYLIGHT
END:VTIMEZONE
BEGIN:VEVENT
UID:a99c7286-5526-4a71-9c9a-1bae3a12228c
DTSTAMP:20260423T084039Z
DESCRIPTION:
DTSTART;TZID=America/Chicago:20250313T150000
DTEND;TZID=America/Chicago:20250313T154500
LOCATION:
SUMMARY:Crochet Club
END:VEVENT
END:VCALENDAR
