BEGIN:VCALENDAR
VERSION:2.0
PRODID:-//tandcschool.org//NONSGML kigkonsult.se iCalcreator 2.30.10//
CALSCALE:GREGORIAN
METHOD:PUBLISH
UID:523d7975-af75-4e04-9206-96f150310787
X-WR-CALDESC:
X-WR-RELCALID:ba174b44c8deabd6204cf42a7ef6a57c
X-WR-TIMEZONE:America/Chicago
BEGIN:VTIMEZONE
TZID:America/Chicago
BEGIN:STANDARD
TZNAME:CST
DTSTART:20241103T020000
TZOFFSETFROM:-0500
TZOFFSETTO:-0600
RDATE:20251102T020000
END:STANDARD
BEGIN:DAYLIGHT
TZNAME:CDT
DTSTART:20250309T020000
TZOFFSETFROM:-0600
TZOFFSETTO:-0500
RDATE:20260308T020000
END:DAYLIGHT
END:VTIMEZONE
BEGIN:VEVENT
UID:97da91d2-f57a-433b-8c52-e661f9edc415
DTSTAMP:20260423T085506Z
DESCRIPTION:
DTSTART;TZID=America/Chicago:20250312T093000
DTEND;TZID=America/Chicago:20250312T133000
LOCATION:
SUMMARY:HS Ecology Field Trip
END:VEVENT
END:VCALENDAR
