BEGIN:VCALENDAR
VERSION:2.0
PRODID:-//tandcschool.org//NONSGML kigkonsult.se iCalcreator 2.30.10//
CALSCALE:GREGORIAN
METHOD:PUBLISH
UID:5435ffce-985a-437c-a8dd-0896abd161b4
X-WR-CALDESC:
X-WR-RELCALID:9e3564734f4e9a12e125182e7f02b71c
X-WR-TIMEZONE:America/Chicago
BEGIN:VTIMEZONE
TZID:America/Chicago
BEGIN:STANDARD
TZNAME:CST
DTSTART:20241103T020000
TZOFFSETFROM:-0500
TZOFFSETTO:-0600
RDATE:20251102T020000
END:STANDARD
BEGIN:DAYLIGHT
TZNAME:CDT
DTSTART:20250309T020000
TZOFFSETFROM:-0600
TZOFFSETTO:-0500
RDATE:20260308T020000
END:DAYLIGHT
END:VTIMEZONE
BEGIN:VEVENT
UID:5852d7b2-aee5-4877-8ab8-53dfa796fdd1
DTSTAMP:20260423T084610Z
DESCRIPTION:
DTSTART;TZID=America/Chicago:20250312T152000
DTEND;TZID=America/Chicago:20250312T160000
LOCATION:
SUMMARY:Production Club
END:VEVENT
END:VCALENDAR
