BEGIN:VCALENDAR
VERSION:2.0
PRODID:-//tandcschool.org//NONSGML kigkonsult.se iCalcreator 2.30.10//
CALSCALE:GREGORIAN
METHOD:PUBLISH
UID:534704ba-12e3-4cb6-b427-93d34d99b8e1
X-WR-CALDESC:
X-WR-RELCALID:1926091038a1f16c6cb1b57be2dc2bad
X-WR-TIMEZONE:America/Chicago
BEGIN:VTIMEZONE
TZID:America/Chicago
BEGIN:STANDARD
TZNAME:CST
DTSTART:20241103T020000
TZOFFSETFROM:-0500
TZOFFSETTO:-0600
RDATE:20251102T020000
END:STANDARD
BEGIN:DAYLIGHT
TZNAME:CDT
DTSTART:20250309T020000
TZOFFSETFROM:-0600
TZOFFSETTO:-0500
RDATE:20260308T020000
END:DAYLIGHT
END:VTIMEZONE
BEGIN:VEVENT
UID:6484167b-abc4-4ba4-820f-3d020a64485c
DTSTAMP:20260423T084649Z
DESCRIPTION:
DTSTART;TZID=America/Chicago:20250311T152000
DTEND;TZID=America/Chicago:20250311T160000
LOCATION:
SUMMARY:LS Lego Club
END:VEVENT
END:VCALENDAR
