BEGIN:VCALENDAR
VERSION:2.0
PRODID:-//tandcschool.org//NONSGML kigkonsult.se iCalcreator 2.30.10//
CALSCALE:GREGORIAN
METHOD:PUBLISH
UID:caeaaba5-66dc-437a-8481-f9099c7d476c
X-WR-CALDESC:
X-WR-RELCALID:dc528198c766af4c5bffc5a114bb03f5
X-WR-TIMEZONE:America/Chicago
BEGIN:VTIMEZONE
TZID:America/Chicago
BEGIN:STANDARD
TZNAME:CST
DTSTART:20241103T020000
TZOFFSETFROM:-0500
TZOFFSETTO:-0600
RDATE:20251102T020000
END:STANDARD
BEGIN:DAYLIGHT
TZNAME:CDT
DTSTART:20240310T020000
TZOFFSETFROM:-0600
TZOFFSETTO:-0500
RDATE:20250309T020000
RDATE:20260308T020000
END:DAYLIGHT
END:VTIMEZONE
BEGIN:VEVENT
UID:6f13fc4b-e071-49ea-8762-3166fc67bf53
DTSTAMP:20260423T084601Z
DESCRIPTION:
DTSTART;TZID=America/Chicago:20250310T150000
DTEND;TZID=America/Chicago:20250310T160000
LOCATION:
SUMMARY:MS Lego Club
END:VEVENT
END:VCALENDAR
