BEGIN:VCALENDAR
VERSION:2.0
PRODID:-//tandcschool.org//NONSGML kigkonsult.se iCalcreator 2.30.10//
CALSCALE:GREGORIAN
METHOD:PUBLISH
UID:c664ea76-8817-4f72-8c1a-c83aa6700017
X-WR-CALDESC:
X-WR-RELCALID:14aa7e14da8c9601fd66c2901c40bb1f
X-WR-TIMEZONE:America/Chicago
BEGIN:VTIMEZONE
TZID:America/Chicago
BEGIN:STANDARD
TZNAME:CST
DTSTART:20241103T020000
TZOFFSETFROM:-0500
TZOFFSETTO:-0600
RDATE:20251102T020000
END:STANDARD
BEGIN:DAYLIGHT
TZNAME:CDT
DTSTART:20240310T020000
TZOFFSETFROM:-0600
TZOFFSETTO:-0500
RDATE:20250309T020000
RDATE:20260308T020000
END:DAYLIGHT
END:VTIMEZONE
BEGIN:VEVENT
UID:da402235-1609-425f-87b6-5e68276095af
DTSTAMP:20260423T090315Z
DESCRIPTION:
DTSTART;TZID=America/Chicago:20250307T150000
DTEND;TZID=America/Chicago:20250307T154500
LOCATION:
SUMMARY:Gaming Club B
END:VEVENT
END:VCALENDAR
