BEGIN:VCALENDAR
VERSION:2.0
PRODID:-//tandcschool.org//NONSGML kigkonsult.se iCalcreator 2.30.10//
CALSCALE:GREGORIAN
METHOD:PUBLISH
UID:7b9e5e65-9445-4fd8-9713-d67ca3f9f5ca
X-WR-CALDESC:
X-WR-RELCALID:03408bbb557d4f82017a61d80e41da42
X-WR-TIMEZONE:America/Chicago
BEGIN:VTIMEZONE
TZID:America/Chicago
BEGIN:STANDARD
TZNAME:CST
DTSTART:20241103T020000
TZOFFSETFROM:-0500
TZOFFSETTO:-0600
RDATE:20251102T020000
END:STANDARD
BEGIN:DAYLIGHT
TZNAME:CDT
DTSTART:20240310T020000
TZOFFSETFROM:-0600
TZOFFSETTO:-0500
RDATE:20250309T020000
RDATE:20260308T020000
END:DAYLIGHT
END:VTIMEZONE
BEGIN:VEVENT
UID:1df3cbbc-2306-4a05-b09b-852b08f4af60
DTSTAMP:20260423T084817Z
DESCRIPTION:
DTSTART;TZID=America/Chicago:20250307T150000
DTEND;TZID=America/Chicago:20250307T154500
LOCATION:
SUMMARY:Astronomy Club
END:VEVENT
END:VCALENDAR
