BEGIN:VCALENDAR
VERSION:2.0
PRODID:-//tandcschool.org//NONSGML kigkonsult.se iCalcreator 2.30.10//
CALSCALE:GREGORIAN
METHOD:PUBLISH
UID:07c1ce42-602a-4944-9317-191f66afc6a9
X-WR-CALDESC:
X-WR-RELCALID:6e9cf413a862ee2938a82d93dbabbee5
X-WR-TIMEZONE:America/Chicago
BEGIN:VTIMEZONE
TZID:America/Chicago
BEGIN:STANDARD
TZNAME:CST
DTSTART:20241103T020000
TZOFFSETFROM:-0500
TZOFFSETTO:-0600
RDATE:20251102T020000
END:STANDARD
BEGIN:DAYLIGHT
TZNAME:CDT
DTSTART:20240310T020000
TZOFFSETFROM:-0600
TZOFFSETTO:-0500
RDATE:20250309T020000
RDATE:20260308T020000
END:DAYLIGHT
END:VTIMEZONE
BEGIN:VEVENT
UID:45932bca-2019-4d86-8a43-8311fe7e4e17
DTSTAMP:20260423T084254Z
DESCRIPTION:
DTSTART;TZID=America/Chicago:20250306T151500
DTEND;TZID=America/Chicago:20250306T160000
LOCATION:
SUMMARY:Band
END:VEVENT
END:VCALENDAR
