BEGIN:VCALENDAR
VERSION:2.0
PRODID:-//tandcschool.org//NONSGML kigkonsult.se iCalcreator 2.30.10//
CALSCALE:GREGORIAN
METHOD:PUBLISH
UID:cc19288e-dc14-4ae6-8848-3bb2325a3462
X-WR-CALDESC:
X-WR-RELCALID:6e91972de6b8980e95aafbc71225231e
X-WR-TIMEZONE:America/Chicago
BEGIN:VTIMEZONE
TZID:America/Chicago
BEGIN:STANDARD
TZNAME:CST
DTSTART:20241103T020000
TZOFFSETFROM:-0500
TZOFFSETTO:-0600
RDATE:20251102T020000
END:STANDARD
BEGIN:DAYLIGHT
TZNAME:CDT
DTSTART:20240310T020000
TZOFFSETFROM:-0600
TZOFFSETTO:-0500
RDATE:20250309T020000
RDATE:20260308T020000
END:DAYLIGHT
END:VTIMEZONE
BEGIN:VEVENT
UID:941ee6c3-a3e5-4b6e-9140-02cdf7d65e1a
DTSTAMP:20260423T084617Z
DESCRIPTION:
DTSTART;TZID=America/Chicago:20250305T152000
DTEND;TZID=America/Chicago:20250305T160000
LOCATION:
SUMMARY:Production Club
END:VEVENT
END:VCALENDAR
