BEGIN:VCALENDAR
VERSION:2.0
PRODID:-//tandcschool.org//NONSGML kigkonsult.se iCalcreator 2.30.10//
CALSCALE:GREGORIAN
METHOD:PUBLISH
UID:fdf4311d-687f-4e7f-816a-47df68f16977
X-WR-CALDESC:
X-WR-RELCALID:887a5bf5537008b6a66ba49d9c90e774
X-WR-TIMEZONE:America/Chicago
BEGIN:VTIMEZONE
TZID:America/Chicago
BEGIN:STANDARD
TZNAME:CST
DTSTART:20241103T020000
TZOFFSETFROM:-0500
TZOFFSETTO:-0600
RDATE:20251102T020000
END:STANDARD
BEGIN:DAYLIGHT
TZNAME:CDT
DTSTART:20240310T020000
TZOFFSETFROM:-0600
TZOFFSETTO:-0500
RDATE:20250309T020000
RDATE:20260308T020000
END:DAYLIGHT
END:VTIMEZONE
BEGIN:VEVENT
UID:b50c3049-e45a-4da8-9e5f-d84ccd339756
DTSTAMP:20260423T083707Z
DESCRIPTION:
DTSTART;TZID=America/Chicago:20250304T050000
DTEND;TZID=America/Chicago:20250304T050001
LOCATION:
SUMMARY:RF Field Trip
END:VEVENT
END:VCALENDAR
