BEGIN:VCALENDAR
VERSION:2.0
PRODID:-//tandcschool.org//NONSGML kigkonsult.se iCalcreator 2.30.10//
CALSCALE:GREGORIAN
METHOD:PUBLISH
UID:bc88bb72-4f44-4656-8981-cc65b4cdb96a
X-WR-CALDESC:Collecting for the Coffee Bunker
X-WR-RELCALID:e5baa3149c583dbf6ab68976828ea22a
X-WR-TIMEZONE:America/Chicago
BEGIN:VTIMEZONE
TZID:America/Chicago
BEGIN:STANDARD
TZNAME:CST
DTSTART:20241103T020000
TZOFFSETFROM:-0500
TZOFFSETTO:-0600
RDATE:20251102T020000
END:STANDARD
BEGIN:DAYLIGHT
TZNAME:CDT
DTSTART:20240310T020000
TZOFFSETFROM:-0600
TZOFFSETTO:-0500
RDATE:20250309T020000
RDATE:20260308T020000
END:DAYLIGHT
END:VTIMEZONE
BEGIN:VEVENT
UID:ace6de6d-8806-4688-af52-23660560eaad
DTSTAMP:20260423T090315Z
DESCRIPTION:Collecting for the Coffee Bunker
DTSTART;TZID=America/Chicago:20250302T120000
DTEND;TZID=America/Chicago:20250302T130000
LOCATION:
SUMMARY:8 Habits of the Heart: Courage
END:VEVENT
END:VCALENDAR
