BEGIN:VCALENDAR
VERSION:2.0
PRODID:-//tandcschool.org//NONSGML kigkonsult.se iCalcreator 2.30.10//
CALSCALE:GREGORIAN
METHOD:PUBLISH
UID:225eec79-f7ab-40b1-9d24-9426565e3f42
X-WR-CALDESC:
X-WR-RELCALID:e954c7c867119592ec0bb34e1304cf9d
X-WR-TIMEZONE:America/Chicago
BEGIN:VTIMEZONE
TZID:America/Chicago
BEGIN:STANDARD
TZNAME:CST
DTSTART:20241103T020000
TZOFFSETFROM:-0500
TZOFFSETTO:-0600
RDATE:20251102T020000
END:STANDARD
BEGIN:DAYLIGHT
TZNAME:CDT
DTSTART:20240310T020000
TZOFFSETFROM:-0600
TZOFFSETTO:-0500
RDATE:20250309T020000
RDATE:20260308T020000
END:DAYLIGHT
END:VTIMEZONE
BEGIN:VEVENT
UID:39b37f29-c090-4d98-a016-02e5a32a5a1f
DTSTAMP:20260423T103138Z
DESCRIPTION:
DTSTART;TZID=America/Chicago:20250228T150000
DTEND;TZID=America/Chicago:20250228T154500
LOCATION:
SUMMARY:Gaming Club A
END:VEVENT
END:VCALENDAR
