BEGIN:VCALENDAR
VERSION:2.0
PRODID:-//tandcschool.org//NONSGML kigkonsult.se iCalcreator 2.30.10//
CALSCALE:GREGORIAN
METHOD:PUBLISH
UID:26d2da2e-aebf-48a6-9716-bbef3428326b
X-WR-CALDESC:
X-WR-RELCALID:9cc6d4d30f988fccee3f4adafc542f3a
X-WR-TIMEZONE:America/Chicago
BEGIN:VTIMEZONE
TZID:America/Chicago
BEGIN:STANDARD
TZNAME:CST
DTSTART:20241103T020000
TZOFFSETFROM:-0500
TZOFFSETTO:-0600
RDATE:20251102T020000
END:STANDARD
BEGIN:DAYLIGHT
TZNAME:CDT
DTSTART:20240310T020000
TZOFFSETFROM:-0600
TZOFFSETTO:-0500
RDATE:20250309T020000
RDATE:20260308T020000
END:DAYLIGHT
END:VTIMEZONE
BEGIN:VEVENT
UID:4991d512-bb2d-4d52-8dd5-535010c95d98
DTSTAMP:20260423T103756Z
DESCRIPTION:
DTSTART;TZID=America/Chicago:20250227T153000
DTEND;TZID=America/Chicago:20250227T163000
LOCATION:
SUMMARY:LS Cooking Club
END:VEVENT
END:VCALENDAR
