BEGIN:VCALENDAR
VERSION:2.0
PRODID:-//tandcschool.org//NONSGML kigkonsult.se iCalcreator 2.30.10//
CALSCALE:GREGORIAN
METHOD:PUBLISH
UID:c10c2910-4445-4ec4-bc07-0684272be269
X-WR-CALDESC:
X-WR-RELCALID:6bc99f520610f4a925e4964745863436
X-WR-TIMEZONE:America/Chicago
BEGIN:VTIMEZONE
TZID:America/Chicago
BEGIN:STANDARD
TZNAME:CST
DTSTART:20241103T020000
TZOFFSETFROM:-0500
TZOFFSETTO:-0600
RDATE:20251102T020000
END:STANDARD
BEGIN:DAYLIGHT
TZNAME:CDT
DTSTART:20240310T020000
TZOFFSETFROM:-0600
TZOFFSETTO:-0500
RDATE:20250309T020000
RDATE:20260308T020000
END:DAYLIGHT
END:VTIMEZONE
BEGIN:VEVENT
UID:6ce26bc9-09ff-4fad-85c8-f1068f2245e9
DTSTAMP:20260423T103644Z
DESCRIPTION:
DTSTART;TZID=America/Chicago:20250226T152000
DTEND;TZID=America/Chicago:20250226T160000
LOCATION:
SUMMARY:Production Club
END:VEVENT
END:VCALENDAR
