BEGIN:VCALENDAR
VERSION:2.0
PRODID:-//tandcschool.org//NONSGML kigkonsult.se iCalcreator 2.30.10//
CALSCALE:GREGORIAN
METHOD:PUBLISH
UID:2851271e-4b78-4e25-9717-6976489e8849
X-WR-CALDESC:
X-WR-RELCALID:f2762e800135113309ad1e2e467d69df
X-WR-TIMEZONE:America/Chicago
BEGIN:VTIMEZONE
TZID:America/Chicago
BEGIN:STANDARD
TZNAME:CST
DTSTART:20241103T020000
TZOFFSETFROM:-0500
TZOFFSETTO:-0600
RDATE:20251102T020000
END:STANDARD
BEGIN:DAYLIGHT
TZNAME:CDT
DTSTART:20240310T020000
TZOFFSETFROM:-0600
TZOFFSETTO:-0500
RDATE:20250309T020000
RDATE:20260308T020000
END:DAYLIGHT
END:VTIMEZONE
BEGIN:VEVENT
UID:e6f111a3-5109-435f-b22f-5a010f95cfae
DTSTAMP:20260423T100340Z
DESCRIPTION:
DTSTART;TZID=America/Chicago:20250225T130000
DTEND;TZID=America/Chicago:20250225T160000
LOCATION:
SUMMARY:2nd Annual Transitional Fair
END:VEVENT
END:VCALENDAR
