BEGIN:VCALENDAR
VERSION:2.0
PRODID:-//tandcschool.org//NONSGML kigkonsult.se iCalcreator 2.30.10//
CALSCALE:GREGORIAN
METHOD:PUBLISH
UID:5ca950d0-578f-4280-8002-eefcaede32b5
X-WR-CALDESC:
X-WR-RELCALID:94be77d9e9807052b18725fd92b68171
X-WR-TIMEZONE:America/Chicago
BEGIN:VTIMEZONE
TZID:America/Chicago
BEGIN:STANDARD
TZNAME:CST
DTSTART:20241103T020000
TZOFFSETFROM:-0500
TZOFFSETTO:-0600
RDATE:20251102T020000
END:STANDARD
BEGIN:DAYLIGHT
TZNAME:CDT
DTSTART:20240310T020000
TZOFFSETFROM:-0600
TZOFFSETTO:-0500
RDATE:20250309T020000
RDATE:20260308T020000
END:DAYLIGHT
END:VTIMEZONE
BEGIN:VEVENT
UID:a754b81a-2b92-4fd8-9ef7-c4d9c8825b62
DTSTAMP:20260423T104027Z
DESCRIPTION:
DTSTART;TZID=America/Chicago:20250225T152000
DTEND;TZID=America/Chicago:20250225T160000
LOCATION:
SUMMARY:LS Lego Club
END:VEVENT
END:VCALENDAR
