BEGIN:VCALENDAR
VERSION:2.0
PRODID:-//tandcschool.org//NONSGML kigkonsult.se iCalcreator 2.30.10//
CALSCALE:GREGORIAN
METHOD:PUBLISH
UID:f3f3cdff-401f-4358-8be7-6f69ee2f00f3
X-WR-CALDESC:
X-WR-RELCALID:d69847a6780fe60552ff7f7d3db5f7f3
X-WR-TIMEZONE:America/Chicago
BEGIN:VTIMEZONE
TZID:America/Chicago
BEGIN:STANDARD
TZNAME:CST
DTSTART:20241103T020000
TZOFFSETFROM:-0500
TZOFFSETTO:-0600
RDATE:20251102T020000
END:STANDARD
BEGIN:DAYLIGHT
TZNAME:CDT
DTSTART:20240310T020000
TZOFFSETFROM:-0600
TZOFFSETTO:-0500
RDATE:20250309T020000
RDATE:20260308T020000
END:DAYLIGHT
END:VTIMEZONE
BEGIN:VEVENT
UID:4dd4058f-59ea-401f-8e91-dd86d5393f4d
DTSTAMP:20260423T101606Z
DESCRIPTION:
DTSTART;TZID=America/Chicago:20250225T151500
DTEND;TZID=America/Chicago:20250225T161500
LOCATION:
SUMMARY:HS/MS Cooking Club
END:VEVENT
END:VCALENDAR
