BEGIN:VCALENDAR
VERSION:2.0
PRODID:-//tandcschool.org//NONSGML kigkonsult.se iCalcreator 2.30.10//
CALSCALE:GREGORIAN
METHOD:PUBLISH
UID:8635479e-2d00-4d62-8d9b-bc715e1a6924
X-WR-CALDESC:Dr. Tyler Tolbert and Haley Tolbert will be visiting our schoo
 l to talk about the importance of oral hygiene\, proper brushing technique
 s\, and more. This is a great opportunity to learn how to keep those smile
 s shining bright!
X-WR-RELCALID:f0ccc810661eefe1811f30fba86257ef
X-WR-TIMEZONE:America/Chicago
BEGIN:VTIMEZONE
TZID:America/Chicago
BEGIN:STANDARD
TZNAME:CST
DTSTART:20241103T020000
TZOFFSETFROM:-0500
TZOFFSETTO:-0600
RDATE:20251102T020000
END:STANDARD
BEGIN:DAYLIGHT
TZNAME:CDT
DTSTART:20240310T020000
TZOFFSETFROM:-0600
TZOFFSETTO:-0500
RDATE:20250309T020000
RDATE:20260308T020000
END:DAYLIGHT
END:VTIMEZONE
BEGIN:VEVENT
UID:adee88c4-7966-4e1e-b25d-3bff5f8aa671
DTSTAMP:20260423T100454Z
DESCRIPTION:Dr. Tyler Tolbert and Haley Tolbert will be visiting our school
  to talk about the importance of oral hygiene\, proper brushing techniques
 \, and more. This is a great opportunity to learn how to keep those smiles
  shining bright!
DTSTART;TZID=America/Chicago:20250224T093000
DTEND;TZID=America/Chicago:20250224T103000
LOCATION:
SUMMARY:Dental Presentation
END:VEVENT
END:VCALENDAR
