BEGIN:VCALENDAR
VERSION:2.0
PRODID:-//tandcschool.org//NONSGML kigkonsult.se iCalcreator 2.30.10//
CALSCALE:GREGORIAN
METHOD:PUBLISH
UID:7e246eb3-1b87-4d2c-9dee-4d583c8d2095
X-WR-CALDESC:
X-WR-RELCALID:7643c357217dab9193c0bdf3db40330b
X-WR-TIMEZONE:America/Chicago
BEGIN:VTIMEZONE
TZID:America/Chicago
BEGIN:STANDARD
TZNAME:CST
DTSTART:20241103T020000
TZOFFSETFROM:-0500
TZOFFSETTO:-0600
RDATE:20251102T020000
END:STANDARD
BEGIN:DAYLIGHT
TZNAME:CDT
DTSTART:20240310T020000
TZOFFSETFROM:-0600
TZOFFSETTO:-0500
RDATE:20250309T020000
RDATE:20260308T020000
END:DAYLIGHT
END:VTIMEZONE
BEGIN:VEVENT
UID:32807ce6-4ce2-4f6c-adef-30bc365f283d
DTSTAMP:20260423T102605Z
DESCRIPTION:
DTSTART;TZID=America/Chicago:20250224T152000
DTEND;TZID=America/Chicago:20250224T160000
LOCATION:
SUMMARY:LS Art Club B
END:VEVENT
END:VCALENDAR
