BEGIN:VCALENDAR
VERSION:2.0
PRODID:-//tandcschool.org//NONSGML kigkonsult.se iCalcreator 2.30.10//
CALSCALE:GREGORIAN
METHOD:PUBLISH
UID:8c2fe716-c67d-48be-97eb-112de2834e5c
X-WR-CALDESC:
X-WR-RELCALID:7280d7231a6bdeada3a38f6107811cdf
X-WR-TIMEZONE:America/Chicago
BEGIN:VTIMEZONE
TZID:America/Chicago
BEGIN:STANDARD
TZNAME:CST
DTSTART:20241103T020000
TZOFFSETFROM:-0500
TZOFFSETTO:-0600
RDATE:20251102T020000
END:STANDARD
BEGIN:DAYLIGHT
TZNAME:CDT
DTSTART:20240310T020000
TZOFFSETFROM:-0600
TZOFFSETTO:-0500
RDATE:20250309T020000
RDATE:20260308T020000
END:DAYLIGHT
END:VTIMEZONE
BEGIN:VEVENT
UID:92864e3d-8a47-46a8-892f-27390106806f
DTSTAMP:20260423T103005Z
DESCRIPTION:
DTSTART;TZID=America/Chicago:20250224T150000
DTEND;TZID=America/Chicago:20250224T154500
LOCATION:
SUMMARY:Chess Club
END:VEVENT
END:VCALENDAR
