BEGIN:VCALENDAR
VERSION:2.0
PRODID:-//tandcschool.org//NONSGML kigkonsult.se iCalcreator 2.30.10//
CALSCALE:GREGORIAN
METHOD:PUBLISH
UID:da9ba4a7-22cf-4c9e-9cc8-e17e676fe504
X-WR-CALDESC:
X-WR-RELCALID:49aa34751e08c62a5c28923649410aee
X-WR-TIMEZONE:America/Chicago
BEGIN:VTIMEZONE
TZID:America/Chicago
BEGIN:STANDARD
TZNAME:CST
DTSTART:20241103T020000
TZOFFSETFROM:-0500
TZOFFSETTO:-0600
RDATE:20251102T020000
END:STANDARD
BEGIN:DAYLIGHT
TZNAME:CDT
DTSTART:20240310T020000
TZOFFSETFROM:-0600
TZOFFSETTO:-0500
RDATE:20250309T020000
RDATE:20260308T020000
END:DAYLIGHT
END:VTIMEZONE
BEGIN:VEVENT
UID:49bf3311-aba7-4bd7-9fec-ee004d294575
DTSTAMP:20260423T104132Z
DESCRIPTION:
DTSTART;TZID=America/Chicago:20250222T050000
DTEND;TZID=America/Chicago:20250222T050001
LOCATION:
SUMMARY:Bowling State- TBD
END:VEVENT
END:VCALENDAR
